BEGIN:VCALENDAR
VERSION:2.0
PRODID:-//Northeastern Utah Educational Services - ECPv6.15.20//NONSGML v1.0//EN
CALSCALE:GREGORIAN
METHOD:PUBLISH
X-WR-CALNAME:Northeastern Utah Educational Services
X-ORIGINAL-URL:https://www.nucenter.org
X-WR-CALDESC:Events for Northeastern Utah Educational Services
REFRESH-INTERVAL;VALUE=DURATION:PT1H
X-Robots-Tag:noindex
X-PUBLISHED-TTL:PT1H
BEGIN:VTIMEZONE
TZID:America/Denver
BEGIN:DAYLIGHT
TZOFFSETFROM:-0700
TZOFFSETTO:-0600
TZNAME:MDT
DTSTART:20250309T090000
END:DAYLIGHT
BEGIN:STANDARD
TZOFFSETFROM:-0600
TZOFFSETTO:-0700
TZNAME:MST
DTSTART:20251102T080000
END:STANDARD
BEGIN:DAYLIGHT
TZOFFSETFROM:-0700
TZOFFSETTO:-0600
TZNAME:MDT
DTSTART:20260308T090000
END:DAYLIGHT
BEGIN:STANDARD
TZOFFSETFROM:-0600
TZOFFSETTO:-0700
TZNAME:MST
DTSTART:20261101T080000
END:STANDARD
BEGIN:DAYLIGHT
TZOFFSETFROM:-0700
TZOFFSETTO:-0600
TZNAME:MDT
DTSTART:20270314T090000
END:DAYLIGHT
BEGIN:STANDARD
TZOFFSETFROM:-0600
TZOFFSETTO:-0700
TZNAME:MST
DTSTART:20271107T080000
END:STANDARD
END:VTIMEZONE
BEGIN:VEVENT
DTSTART;TZID=America/Denver:20260108T093000
DTEND;TZID=America/Denver:20260108T113000
DTSTAMP:20260422T131215
CREATED:20250610T194205Z
LAST-MODIFIED:20251208T155944Z
UID:11221-1767864600-1767871800@www.nucenter.org
SUMMARY:NUES Board Meeting
DESCRIPTION:
URL:https://www.nucenter.org/event/nues-board-meeting-12/
LOCATION:Salt Lake City
END:VEVENT
BEGIN:VEVENT
DTSTART;TZID=America/Denver:20260113T083000
DTEND;TZID=America/Denver:20260113T153000
DTSTAMP:20260422T131215
CREATED:20250529T172600Z
LAST-MODIFIED:20260113T221510Z
UID:10924-1768293000-1768318200@www.nucenter.org
SUMMARY:NUES Region K-6 Math Coaching Collaboration
DESCRIPTION:
URL:https://www.nucenter.org/event/nues-region-k-6-math-coaching-collaboration-3/
LOCATION:251 E 1200 S\, Heber City\, UT\, United States
END:VEVENT
BEGIN:VEVENT
DTSTART;TZID=America/Denver:20260114T154500
DTEND;TZID=America/Denver:20260114T164500
DTSTAMP:20260422T131215
CREATED:20250902T063523Z
LAST-MODIFIED:20260114T233003Z
UID:13698-1768405500-1768409100@www.nucenter.org
SUMMARY:NUES Coaches Corner
DESCRIPTION:
URL:https://www.nucenter.org/event/nues-coaches-corner-5/
END:VEVENT
BEGIN:VEVENT
DTSTART;TZID=America/Denver:20260114T154500
DTEND;TZID=America/Denver:20260114T164500
DTSTAMP:20260422T131215
CREATED:20251022T200503Z
LAST-MODIFIED:20251022T200849Z
UID:14634-1768405500-1768409100@www.nucenter.org
SUMMARY:Coaches Corner - Art Integration
DESCRIPTION:
URL:https://www.nucenter.org/event/coaches-corner-art-integration/
END:VEVENT
BEGIN:VEVENT
DTSTART;TZID=America/Denver:20260120T083000
DTEND;TZID=America/Denver:20260120T113000
DTSTAMP:20260422T131215
CREATED:20251106T232943Z
LAST-MODIFIED:20260120T173323Z
UID:15017-1768897800-1768908600@www.nucenter.org
SUMMARY:Keys to Literacy Writing Workshop
DESCRIPTION:
URL:https://www.nucenter.org/event/keys-to-literacy-writing-workshop/
LOCATION:251 E 1200 S\, Heber City\, UT\, United States
END:VEVENT
BEGIN:VEVENT
DTSTART;TZID=America/Denver:20260120T153000
DTEND;TZID=America/Denver:20260120T173000
DTSTAMP:20260422T131215
CREATED:20251021T041454Z
LAST-MODIFIED:20260121T001641Z
UID:14564-1768923000-1768930200@www.nucenter.org
SUMMARY:Coaching Endorsement Course: Adult Learning Theory
DESCRIPTION:
URL:https://www.nucenter.org/event/coaching-endorsement-course-adult-learning-theory/
END:VEVENT
BEGIN:VEVENT
DTSTART;TZID=America/Denver:20260129T120000
DTEND;TZID=America/Denver:20260129T140000
DTSTAMP:20260422T131215
CREATED:20250610T194205Z
LAST-MODIFIED:20260129T205957Z
UID:11222-1769688000-1769695200@www.nucenter.org
SUMMARY:NUES Board Meeting
DESCRIPTION:
URL:https://www.nucenter.org/event/nues-board-meeting-13/
LOCATION:Utah State Capitol (350 N State St\, Salt Lake City\, UT 84114\, United States)
END:VEVENT
END:VCALENDAR