BEGIN:VCALENDAR
VERSION:2.0
PRODID:-//Northeastern Utah Educational Services - ECPv6.15.20//NONSGML v1.0//EN
CALSCALE:GREGORIAN
METHOD:PUBLISH
X-ORIGINAL-URL:https://www.nucenter.org
X-WR-CALDESC:Events for Northeastern Utah Educational Services
REFRESH-INTERVAL;VALUE=DURATION:PT1H
X-Robots-Tag:noindex
X-PUBLISHED-TTL:PT1H
BEGIN:VTIMEZONE
TZID:America/Denver
BEGIN:DAYLIGHT
TZOFFSETFROM:-0700
TZOFFSETTO:-0600
TZNAME:MDT
DTSTART:20240310T090000
END:DAYLIGHT
BEGIN:STANDARD
TZOFFSETFROM:-0600
TZOFFSETTO:-0700
TZNAME:MST
DTSTART:20241103T080000
END:STANDARD
BEGIN:DAYLIGHT
TZOFFSETFROM:-0700
TZOFFSETTO:-0600
TZNAME:MDT
DTSTART:20250309T090000
END:DAYLIGHT
BEGIN:STANDARD
TZOFFSETFROM:-0600
TZOFFSETTO:-0700
TZNAME:MST
DTSTART:20251102T080000
END:STANDARD
BEGIN:DAYLIGHT
TZOFFSETFROM:-0700
TZOFFSETTO:-0600
TZNAME:MDT
DTSTART:20260308T090000
END:DAYLIGHT
BEGIN:STANDARD
TZOFFSETFROM:-0600
TZOFFSETTO:-0700
TZNAME:MST
DTSTART:20261101T080000
END:STANDARD
END:VTIMEZONE
BEGIN:VEVENT
DTSTART;TZID=America/Denver:20250507T150000
DTEND;TZID=America/Denver:20250507T173000
DTSTAMP:20260423T050509
CREATED:20250507T195500Z
LAST-MODIFIED:20250507T225431Z
UID:10387-1746630000-1746639000@www.nucenter.org
SUMMARY:ESL Endorsement Class EESL5350
DESCRIPTION:
URL:https://www.nucenter.org/event/esl-endorsement-class-eesl5350/
END:VEVENT
BEGIN:VEVENT
DTSTART;TZID=America/Denver:20250507T153000
DTEND;TZID=America/Denver:20250507T170000
DTSTAMP:20260423T050509
CREATED:20250421T173816Z
LAST-MODIFIED:20250421T174346Z
UID:9938-1746631800-1746637200@www.nucenter.org
SUMMARY:ESL Endorsement EESL5350 Course 4 - May 7
DESCRIPTION:
URL:https://www.nucenter.org/event/esl-endorsement-eesl5350-course-4-may-7/
END:VEVENT
BEGIN:VEVENT
DTSTART;TZID=America/Denver:20250512T093000
DTEND;TZID=America/Denver:20250512T123000
DTSTAMP:20260423T050509
CREATED:20240702T210952Z
LAST-MODIFIED:20250512T175423Z
UID:3755-1747042200-1747053000@www.nucenter.org
SUMMARY:NUES Board Meeting
DESCRIPTION:
URL:https://www.nucenter.org/event/nues-board-meeting-7/
END:VEVENT
BEGIN:VEVENT
DTSTART;TZID=America/Denver:20250514T150000
DTEND;TZID=America/Denver:20250514T173000
DTSTAMP:20260423T050509
CREATED:20250507T195500Z
LAST-MODIFIED:20250514T232648Z
UID:10388-1747234800-1747243800@www.nucenter.org
SUMMARY:ESL Endorsement Class EESL5350
DESCRIPTION:
URL:https://www.nucenter.org/event/esl-endorsement-class-eesl5350-2/
END:VEVENT
BEGIN:VEVENT
DTSTART;TZID=America/Denver:20250514T153000
DTEND;TZID=America/Denver:20250514T170000
DTSTAMP:20260423T050509
CREATED:20250421T173906Z
LAST-MODIFIED:20250421T174426Z
UID:9941-1747236600-1747242000@www.nucenter.org
SUMMARY:ESL Endorsement EESL5350 Course 4 - May 14
DESCRIPTION:
URL:https://www.nucenter.org/event/esl-endorsement-eesl5350-course-4-may-14/
END:VEVENT
BEGIN:VEVENT
DTSTART;TZID=America/Denver:20250520T154500
DTEND;TZID=America/Denver:20250520T174500
DTSTAMP:20260423T050509
CREATED:20240822T182323Z
LAST-MODIFIED:20250520T232514Z
UID:4416-1747755900-1747763100@www.nucenter.org
SUMMARY:Coaching Endorsement Final Class
DESCRIPTION:
URL:https://www.nucenter.org/event/coaching-endorsement-final-class/
END:VEVENT
BEGIN:VEVENT
DTSTART;TZID=America/Denver:20250521T150000
DTEND;TZID=America/Denver:20250521T173000
DTSTAMP:20260423T050509
CREATED:20250507T195500Z
LAST-MODIFIED:20250521T231049Z
UID:10389-1747839600-1747848600@www.nucenter.org
SUMMARY:ESL Endorsement Class EESL5350
DESCRIPTION:
URL:https://www.nucenter.org/event/esl-endorsement-class-eesl5350-3/
END:VEVENT
BEGIN:VEVENT
DTSTART;TZID=America/Denver:20250521T153000
DTEND;TZID=America/Denver:20250521T170000
DTSTAMP:20260423T050509
CREATED:20250421T173941Z
LAST-MODIFIED:20250421T174456Z
UID:9943-1747841400-1747846800@www.nucenter.org
SUMMARY:ESL Endorsement EESL5350 Course 4 - May 21
DESCRIPTION:
URL:https://www.nucenter.org/event/esl-endorsement-eesl5350-course-4-may-21/
END:VEVENT
BEGIN:VEVENT
DTSTART;TZID=America/Denver:20250528T150000
DTEND;TZID=America/Denver:20250528T173000
DTSTAMP:20260423T050509
CREATED:20250507T195500Z
LAST-MODIFIED:20250528T224025Z
UID:10390-1748444400-1748453400@www.nucenter.org
SUMMARY:ESL Endorsement Class EESL5350
DESCRIPTION:
URL:https://www.nucenter.org/event/esl-endorsement-class-eesl5350-4/
END:VEVENT
BEGIN:VEVENT
DTSTART;TZID=America/Denver:20250528T153000
DTEND;TZID=America/Denver:20250528T170000
DTSTAMP:20260423T050509
CREATED:20250421T174026Z
LAST-MODIFIED:20250421T174526Z
UID:9946-1748446200-1748451600@www.nucenter.org
SUMMARY:ESL Endorsement EESL5350 Course 4 - May 28
DESCRIPTION:
URL:https://www.nucenter.org/event/esl-endorsement-eesl5350-course-4-may-28/
END:VEVENT
END:VCALENDAR