BEGIN:VCALENDAR
VERSION:2.0
PRODID:-//Northeastern Utah Educational Services - ECPv6.15.20//NONSGML v1.0//EN
CALSCALE:GREGORIAN
METHOD:PUBLISH
X-ORIGINAL-URL:https://www.nucenter.org
X-WR-CALDESC:Events for Northeastern Utah Educational Services
REFRESH-INTERVAL;VALUE=DURATION:PT1H
X-Robots-Tag:noindex
X-PUBLISHED-TTL:PT1H
BEGIN:VTIMEZONE
TZID:America/Denver
BEGIN:DAYLIGHT
TZOFFSETFROM:-0700
TZOFFSETTO:-0600
TZNAME:MDT
DTSTART:20240310T090000
END:DAYLIGHT
BEGIN:STANDARD
TZOFFSETFROM:-0600
TZOFFSETTO:-0700
TZNAME:MST
DTSTART:20241103T080000
END:STANDARD
BEGIN:DAYLIGHT
TZOFFSETFROM:-0700
TZOFFSETTO:-0600
TZNAME:MDT
DTSTART:20250309T090000
END:DAYLIGHT
BEGIN:STANDARD
TZOFFSETFROM:-0600
TZOFFSETTO:-0700
TZNAME:MST
DTSTART:20251102T080000
END:STANDARD
BEGIN:DAYLIGHT
TZOFFSETFROM:-0700
TZOFFSETTO:-0600
TZNAME:MDT
DTSTART:20260308T090000
END:DAYLIGHT
BEGIN:STANDARD
TZOFFSETFROM:-0600
TZOFFSETTO:-0700
TZNAME:MST
DTSTART:20261101T080000
END:STANDARD
END:VTIMEZONE
BEGIN:VEVENT
DTSTART;TZID=America/Denver:20250305T083000
DTEND;TZID=America/Denver:20250305T113000
DTSTAMP:20260423T083533
CREATED:20240703T211929Z
LAST-MODIFIED:20250305T181628Z
UID:3769-1741163400-1741174200@www.nucenter.org
SUMMARY:Early Childhood LETRS Unit 4 Duchesne
DESCRIPTION:
URL:https://www.nucenter.org/event/early-childhood-letrs-unit-4-duchesne/
END:VEVENT
BEGIN:VEVENT
DTSTART;TZID=America/Denver:20250307T080000
DTEND;TZID=America/Denver:20250307T110000
DTSTAMP:20260423T083533
CREATED:20240703T211929Z
LAST-MODIFIED:20250307T173938Z
UID:3770-1741334400-1741345200@www.nucenter.org
SUMMARY:Early Childhood LETRS Unit 4 South Summit
DESCRIPTION:
URL:https://www.nucenter.org/event/early-childhood-letrs-unit-4-south-summit/
END:VEVENT
BEGIN:VEVENT
DTSTART;TZID=America/Denver:20250310T190000
DTEND;TZID=America/Denver:20250310T203000
DTSTAMP:20260423T083533
CREATED:20250307T060335Z
LAST-MODIFIED:20250307T191546Z
UID:8825-1741633200-1741638600@www.nucenter.org
SUMMARY:Northeast Region Sterling Scholar Awards Ceremony 2025 Livestream
DESCRIPTION:  \nhttps://youtube.com/live/QU4GgsxxaZA?feature=share
URL:https://www.nucenter.org/event/northeast-region-sterling-scholar-awards-ceremony-2025-livestream/
END:VEVENT
BEGIN:VEVENT
DTSTART;TZID=America/Denver:20250312T153000
DTEND;TZID=America/Denver:20250312T173000
DTSTAMP:20260423T083533
CREATED:20250312T181031Z
LAST-MODIFIED:20250318T224918Z
UID:8956-1741793400-1741800600@www.nucenter.org
SUMMARY:EESL 5360 Multicultural Endorsement Class
DESCRIPTION:
URL:https://www.nucenter.org/event/eesl5360-multicultural-endorsment-class/
END:VEVENT
BEGIN:VEVENT
DTSTART;TZID=America/Denver:20250314T083000
DTEND;TZID=America/Denver:20250314T113000
DTSTAMP:20260423T083533
CREATED:20240703T211929Z
LAST-MODIFIED:20250227T194204Z
UID:3771-1741941000-1741951800@www.nucenter.org
SUMMARY:Early Childhood LETRS Unit 4 Uintah
DESCRIPTION:
URL:https://www.nucenter.org/event/early-childhood-letrs-unit-4-uintah/
END:VEVENT
BEGIN:VEVENT
DTSTART;TZID=America/Denver:20250317T093000
DTEND;TZID=America/Denver:20250317T123000
DTSTAMP:20260423T083533
CREATED:20240702T210951Z
LAST-MODIFIED:20250317T174400Z
UID:3754-1742203800-1742214600@www.nucenter.org
SUMMARY:NUES Board Meeting
DESCRIPTION:
URL:https://www.nucenter.org/event/nues-board-meeting-6/
END:VEVENT
BEGIN:VEVENT
DTSTART;TZID=America/Denver:20250319T153000
DTEND;TZID=America/Denver:20250319T173000
DTSTAMP:20260423T083533
CREATED:20250312T181031Z
LAST-MODIFIED:20250324T192907Z
UID:8957-1742398200-1742405400@www.nucenter.org
SUMMARY:EESL5360 Multicultural Endorsement Class
DESCRIPTION:
URL:https://www.nucenter.org/event/eesl5360-multicultural-endorsment-class-2/
END:VEVENT
BEGIN:VEVENT
DTSTART;TZID=America/Denver:20250324T150000
DTEND;TZID=America/Denver:20250324T153000
DTSTAMP:20260423T083533
CREATED:20240712T223544Z
LAST-MODIFIED:20250324T212437Z
UID:3808-1742828400-1742830200@www.nucenter.org
SUMMARY:Hidden In Plain Sight Webinar Series
DESCRIPTION:
URL:https://www.nucenter.org/event/hidden-in-plain-sight-webinar-series-6/
LOCATION:https://uetn-org.zoom.us/j/86014288621
END:VEVENT
BEGIN:VEVENT
DTSTART;TZID=America/Denver:20250325T154500
DTEND;TZID=America/Denver:20250325T174500
DTSTAMP:20260423T083533
CREATED:20240822T182323Z
LAST-MODIFIED:20250325T234109Z
UID:4414-1742917500-1742924700@www.nucenter.org
SUMMARY:Coaching Endorsement Class
DESCRIPTION:
URL:https://www.nucenter.org/event/coaching-endorsement-class-6/
END:VEVENT
BEGIN:VEVENT
DTSTART;TZID=America/Denver:20250326T153000
DTEND;TZID=America/Denver:20250326T173000
DTSTAMP:20260423T083533
CREATED:20250312T181031Z
LAST-MODIFIED:20250326T232518Z
UID:8958-1743003000-1743010200@www.nucenter.org
SUMMARY:EESL5360 Multicultural Endorsment Class
DESCRIPTION:
URL:https://www.nucenter.org/event/eesl5360-multicultural-endorsment-class-3/
END:VEVENT
END:VCALENDAR