BEGIN:VCALENDAR
VERSION:2.0
PRODID:-//Northeastern Utah Educational Services - ECPv6.15.20//NONSGML v1.0//EN
CALSCALE:GREGORIAN
METHOD:PUBLISH
X-WR-CALNAME:Northeastern Utah Educational Services
X-ORIGINAL-URL:https://www.nucenter.org
X-WR-CALDESC:Events for Northeastern Utah Educational Services
REFRESH-INTERVAL;VALUE=DURATION:PT1H
X-Robots-Tag:noindex
X-PUBLISHED-TTL:PT1H
BEGIN:VTIMEZONE
TZID:America/Denver
BEGIN:DAYLIGHT
TZOFFSETFROM:-0700
TZOFFSETTO:-0600
TZNAME:MDT
DTSTART:20250309T090000
END:DAYLIGHT
BEGIN:STANDARD
TZOFFSETFROM:-0600
TZOFFSETTO:-0700
TZNAME:MST
DTSTART:20251102T080000
END:STANDARD
BEGIN:DAYLIGHT
TZOFFSETFROM:-0700
TZOFFSETTO:-0600
TZNAME:MDT
DTSTART:20260308T090000
END:DAYLIGHT
BEGIN:STANDARD
TZOFFSETFROM:-0600
TZOFFSETTO:-0700
TZNAME:MST
DTSTART:20261101T080000
END:STANDARD
BEGIN:DAYLIGHT
TZOFFSETFROM:-0700
TZOFFSETTO:-0600
TZNAME:MDT
DTSTART:20270314T090000
END:DAYLIGHT
BEGIN:STANDARD
TZOFFSETFROM:-0600
TZOFFSETTO:-0700
TZNAME:MST
DTSTART:20271107T080000
END:STANDARD
END:VTIMEZONE
BEGIN:VEVENT
DTSTART;TZID=America/Denver:20260611T080000
DTEND;TZID=America/Denver:20260611T150000
DTSTAMP:20260422T162514
CREATED:20260316T223732Z
LAST-MODIFIED:20260422T220729Z
UID:18286-1781164800-1781190000@www.nucenter.org
SUMMARY:Behavior Solutions Workshop
DESCRIPTION:
URL:https://www.nucenter.org/event/behavior-solutions-workshop-2/
LOCATION:Utah Valley University Wasatch (Utah\, United States)
END:VEVENT
BEGIN:VEVENT
DTSTART;TZID=America/Denver:20261020T000000
DTEND;TZID=America/Denver:20261020T235959
DTSTAMP:20260422T162514
CREATED:20260419T223836Z
LAST-MODIFIED:20260422T220729Z
UID:20612-1792454400-1792540799@www.nucenter.org
SUMMARY:UVU Civics training
DESCRIPTION:
URL:https://www.nucenter.org/event/uvu-civics-training-2/
END:VEVENT
END:VCALENDAR