BEGIN:VCALENDAR
VERSION:2.0
PRODID:-//Northeastern Utah Educational Services - ECPv6.15.20//NONSGML v1.0//EN
CALSCALE:GREGORIAN
METHOD:PUBLISH
X-ORIGINAL-URL:https://www.nucenter.org
X-WR-CALDESC:Events for Northeastern Utah Educational Services
REFRESH-INTERVAL;VALUE=DURATION:PT1H
X-Robots-Tag:noindex
X-PUBLISHED-TTL:PT1H
BEGIN:VTIMEZONE
TZID:America/Denver
BEGIN:DAYLIGHT
TZOFFSETFROM:-0700
TZOFFSETTO:-0600
TZNAME:MDT
DTSTART:20240310T090000
END:DAYLIGHT
BEGIN:STANDARD
TZOFFSETFROM:-0600
TZOFFSETTO:-0700
TZNAME:MST
DTSTART:20241103T080000
END:STANDARD
BEGIN:DAYLIGHT
TZOFFSETFROM:-0700
TZOFFSETTO:-0600
TZNAME:MDT
DTSTART:20250309T090000
END:DAYLIGHT
BEGIN:STANDARD
TZOFFSETFROM:-0600
TZOFFSETTO:-0700
TZNAME:MST
DTSTART:20251102T080000
END:STANDARD
BEGIN:DAYLIGHT
TZOFFSETFROM:-0700
TZOFFSETTO:-0600
TZNAME:MDT
DTSTART:20260308T090000
END:DAYLIGHT
BEGIN:STANDARD
TZOFFSETFROM:-0600
TZOFFSETTO:-0700
TZNAME:MST
DTSTART:20261101T080000
END:STANDARD
END:VTIMEZONE
BEGIN:VEVENT
DTSTART;TZID=America/Denver:20251124T093000
DTEND;TZID=America/Denver:20251124T113000
DTSTAMP:20260422T175750
CREATED:20251022T195945Z
LAST-MODIFIED:20251124T180058Z
UID:14626-1763976600-1763983800@www.nucenter.org
SUMMARY:NUES Board Meeting
DESCRIPTION:
URL:https://www.nucenter.org/event/nues-board-meeting-17/
END:VEVENT
BEGIN:VEVENT
DTSTART;TZID=America/Denver:20251124T113000
DTEND;TZID=America/Denver:20251124T133000
DTSTAMP:20260422T175750
CREATED:20251022T195945Z
LAST-MODIFIED:20251124T200030Z
UID:14627-1763983800-1763991000@www.nucenter.org
SUMMARY:NUES Board Legislator Lunch
DESCRIPTION:
URL:https://www.nucenter.org/event/nues-board-legislator-lunch/
LOCATION:Wasatch County School District (101 N 200 E\, Heber City\, UT 84032\, United States)
END:VEVENT
END:VCALENDAR